BEGIN:VCALENDAR
VERSION:2.0
PRODID:-//jEvents 2.0 for Joomla//EN
CALSCALE:GREGORIAN
METHOD:PUBLISH
BEGIN:VEVENT
UID:b2d9afbddd23701e9f9c7401a17c9fed
CATEGORIES:Entrainements / Massif
CREATED:20231127T172404
SUMMARY:Séance Ouverture Markstein
URL;VALUE=URI:https://thannski.com/component/jevents/detailevenement/1182/-/seance-ouvert
 ure-markstein?Itemid=0&amp;tmpl=component
DESCRIPTION:Ouverture du Markstein , séance de reprise    skis de slalom ou skis d'entr
 aînement.  Départ 13h, local SCVT , 54 Fbg des Vosges, 68800 THANN. \nPrévo
 ir une photo d'identité et eventuellement la carte support de votre forfait
  saison de l'hiver dernier.\n Cet évènement a été importé depuis :https://t
 hannski.com/component/jevents/detailevenement/1182/-/seance-ouverture-marks
 tein?Itemid=0&amp;tmpl=component
X-ALT-DESC;FMTTYPE=text/html:<p>Ouverture du Markstein , séance de reprise &nbsp; &nbsp;skis de slalom o
 u skis d'entraînement. &nbsp;Départ 13h, local SCVT , 54 Fbg des Vosges, 68
 800 THANN.&nbsp;</p><p>Prévoir une photo d'identité et eventuellement la ca
 rte support de votre forfait saison de l'hiver dernier.</p> <a href="https:
 //thannski.com/component/jevents/detailevenement/1182/-/seance-ouverture-ma
 rkstein?Itemid=0&amp;tmpl=component">Cet évènement a été importé depuis :ht
 tps://thannski.com/component/jevents/detailevenement/1182/-/seance-ouvertur
 e-markstein?Itemid=0&amp;tmpl=component</a>DTSTAMP:20260420T191622
DTSTART:20231129T130000
DTEND:20231129T173000
SEQUENCE:0
TRANSP:OPAQUE
END:VEVENT
END:VCALENDAR