BEGIN:VCALENDAR
VERSION:2.0
PRODID:-//jEvents 2.0 for Joomla//EN
CALSCALE:GREGORIAN
METHOD:PUBLISH
BEGIN:VEVENT
UID:8bf5443b0bd76dbd54c183307d134d42
CATEGORIES:Entrainements / Massif
CREATED:20231202T065242
SUMMARY:Session sur le plus beau spot des Vosges! dimanche 3 décembre
URL;VALUE=URI:https://thannski.com/component/jevents/detailevenement/1186/-/session-sur-l
 e-plus-beau-spot-des-vosges-dimanche-3-decembre?Itemid=0&amp;tmpl=component
DESCRIPTION:Rdv 8h30 au nouveau local\nAttention pas de ramassage\nDirection le thanner
 hubel\nN'importe quel skis sauf les skis de course\nFin vers A2h30\n Cet év
 ènement a été importé depuis :https://thannski.com/component/jevents/detail
 evenement/1186/-/session-sur-le-plus-beau-spot-des-vosges-dimanche-3-decemb
 re?Itemid=0&amp;tmpl=component
X-ALT-DESC;FMTTYPE=text/html:<p>Rdv 8h30 au nouveau local</p><p>Attention pas de ramassage</p><p>Directi
 on le thannerhubel</p><p>N'importe quel skis sauf les skis de course</p><p>
 Fin vers A2h30</p> <a href="https://thannski.com/component/jevents/detailev
 enement/1186/-/session-sur-le-plus-beau-spot-des-vosges-dimanche-3-decembre
 ?Itemid=0&amp;tmpl=component">Cet évènement a été importé depuis :https://t
 hannski.com/component/jevents/detailevenement/1186/-/session-sur-le-plus-be
 au-spot-des-vosges-dimanche-3-decembre?Itemid=0&amp;tmpl=component</a>DTSTAMP:20260420T192254
DTSTART:20231203T083000
DTEND:20231203T120000
SEQUENCE:0
TRANSP:OPAQUE
END:VEVENT
END:VCALENDAR