BEGIN:VCALENDAR
VERSION:2.0
PRODID:-//jEvents 2.0 for Joomla//EN
CALSCALE:GREGORIAN
METHOD:PUBLISH
BEGIN:VEVENT
UID:36f11a210e69df13c3ba8324f231e6a6
CATEGORIES:Entrainements / Massif
CREATED:20240113T142450
SUMMARY:SSS 1 mardi 16
URL;VALUE=URI:https://thannski.com/component/jevents/detailevenement/1200/-/sss-1-mardi-1
 6?Itemid=0&amp;tmpl=component
DESCRIPTION:ski de slalom\n Cet évènement a été importé depuis :https://thannski.com/co
 mponent/jevents/detailevenement/1200/-/sss-1-mardi-16?Itemid=0&amp;tmpl=com
 ponent
X-ALT-DESC;FMTTYPE=text/html:<p>ski de slalom</p> <a href="https://thannski.com/component/jevents/detail
 evenement/1200/-/sss-1-mardi-16?Itemid=0&amp;tmpl=component">Cet évènement 
 a été importé depuis :https://thannski.com/component/jevents/detailevenemen
 t/1200/-/sss-1-mardi-16?Itemid=0&amp;tmpl=component</a>DTSTAMP:20260420T185721
DTSTART:20240116T125000
DTEND:20240116T173000
SEQUENCE:0
TRANSP:OPAQUE
END:VEVENT
END:VCALENDAR