BEGIN:VCALENDAR
VERSION:2.0
PRODID:-//jEvents 2.0 for Joomla//EN
CALSCALE:GREGORIAN
METHOD:PUBLISH
BEGIN:VEVENT
UID:757d4e9913da0e821b7cd720fdc865e5
CATEGORIES:Entrainements / Massif
CREATED:20240122T175535
SUMMARY:SSS mardi 23
URL;VALUE=URI:https://thannski.com/component/jevents/detailevenement/1208/-/sss-mardi-23?
 Itemid=0&amp;tmpl=component
DESCRIPTION:skis de slalom, à La Bresse \nLes jeunes qui partent à AURON ne sont pas co
 ncernes par la sortie.\n Cet évènement a été importé depuis :https://thanns
 ki.com/component/jevents/detailevenement/1208/-/sss-mardi-23?Itemid=0&amp;t
 mpl=component
X-ALT-DESC;FMTTYPE=text/html:<p>skis de slalom, à La Bresse&nbsp;</p><p>Les jeunes qui partent à AURON n
 e sont pas concernes par la sortie.</p> <a href="https://thannski.com/compo
 nent/jevents/detailevenement/1208/-/sss-mardi-23?Itemid=0&amp;tmpl=componen
 t">Cet évènement a été importé depuis :https://thannski.com/component/jeven
 ts/detailevenement/1208/-/sss-mardi-23?Itemid=0&amp;tmpl=component</a>DTSTAMP:20260420T190147
DTSTART:20240123T125000
DTEND:20240123T173000
SEQUENCE:0
TRANSP:OPAQUE
END:VEVENT
END:VCALENDAR