BEGIN:VCALENDAR
VERSION:2.0
PRODID:-//jEvents 2.0 for Joomla//EN
CALSCALE:GREGORIAN
METHOD:PUBLISH
BEGIN:VEVENT
UID:2c762585a6014268e7c6c7fb24639f98
CATEGORIES:Entrainements / Massif
CREATED:20240123T190938
SUMMARY:ent mercredi matin 24 Janvier
URL;VALUE=URI:https://thannski.com/component/jevents/detailevenement/1209/-/ent-mercredi-
 matin-24-janvier?Itemid=0&amp;tmpl=component
DESCRIPTION: Cet évènement a été importé depuis :https://thannski.com/component/jevents
 /detailevenement/1209/-/ent-mercredi-matin-24-janvier?Itemid=0&amp;tmpl=com
 ponent
X-ALT-DESC;FMTTYPE=text/html: <a href="https://thannski.com/component/jevents/detailevenement/1209/-/ent
 -mercredi-matin-24-janvier?Itemid=0&amp;tmpl=component">Cet évènement a été
  importé depuis :https://thannski.com/component/jevents/detailevenement/120
 9/-/ent-mercredi-matin-24-janvier?Itemid=0&amp;tmpl=component</a>DTSTAMP:20260420T185755
DTSTART:20240124T080000
DTEND:20240124T124500
SEQUENCE:0
TRANSP:OPAQUE
END:VEVENT
END:VCALENDAR