BEGIN:VCALENDAR
VERSION:2.0
PRODID:-//jEvents 2.0 for Joomla//EN
CALSCALE:GREGORIAN
METHOD:PUBLISH
BEGIN:VEVENT
UID:7e7763e399851521952e8f0e5348ccd4
CATEGORIES:Entrainements / Massif
CREATED:20240126T150059
SUMMARY:ski samedi matin 27 janvier
URL;VALUE=URI:https://thannski.com/component/jevents/detailevenement/1212/-/ski-samedi-ma
 tin-27-janvier?Itemid=0&amp;tmpl=component
DESCRIPTION: Cet évènement a été importé depuis :https://thannski.com/component/jevents
 /detailevenement/1212/-/ski-samedi-matin-27-janvier?Itemid=0&amp;tmpl=compo
 nent
X-ALT-DESC;FMTTYPE=text/html: <a href="https://thannski.com/component/jevents/detailevenement/1212/-/ski
 -samedi-matin-27-janvier?Itemid=0&amp;tmpl=component">Cet évènement a été i
 mporté depuis :https://thannski.com/component/jevents/detailevenement/1212/
 -/ski-samedi-matin-27-janvier?Itemid=0&amp;tmpl=component</a>DTSTAMP:20260420T185922
DTSTART:20240127T080000
DTEND:20240127T124500
SEQUENCE:0
TRANSP:OPAQUE
END:VEVENT
END:VCALENDAR