BEGIN:VCALENDAR
VERSION:2.0
PRODID:-//jEvents 2.0 for Joomla//EN
CALSCALE:GREGORIAN
METHOD:PUBLISH
BEGIN:VEVENT
UID:0bfbcd8a08a07b64af2592149a560b03
CATEGORIES:Entrainements / Massif
CREATED:20240126T150222
SUMMARY:ski samedi ap midi 27 janvier ballon d'Alsace
URL;VALUE=URI:https://thannski.com/component/jevents/detailevenement/1213/-/ski-samedi-ap
 -midi-27-janvier-ballon-dalsace?Itemid=0&amp;tmpl=component
DESCRIPTION: Cet évènement a été importé depuis :https://thannski.com/component/jevents
 /detailevenement/1213/-/ski-samedi-ap-midi-27-janvier-ballon-dalsace?Itemid
 =0&amp;tmpl=component
X-ALT-DESC;FMTTYPE=text/html: <a href="https://thannski.com/component/jevents/detailevenement/1213/-/ski
 -samedi-ap-midi-27-janvier-ballon-dalsace?Itemid=0&amp;tmpl=component">Cet 
 évènement a été importé depuis :https://thannski.com/component/jevents/deta
 ilevenement/1213/-/ski-samedi-ap-midi-27-janvier-ballon-dalsace?Itemid=0&am
 p;tmpl=component</a>DTSTAMP:20260420T230831
DTSTART:20240127T130000
DTEND:20240127T180000
SEQUENCE:0
TRANSP:OPAQUE
END:VEVENT
END:VCALENDAR