BEGIN:VCALENDAR
VERSION:2.0
PRODID:-//jEvents 2.0 for Joomla//EN
CALSCALE:GREGORIAN
METHOD:PUBLISH
BEGIN:VEVENT
UID:bc7068cc5ea79db3c533c695df135c60
CATEGORIES:Entrainements / Massif
CREATED:20240203T200350
SUMMARY:SSS mardi 6
URL;VALUE=URI:https://thannski.com/component/jevents/detailevenement/1217/-/sss-mardi-6?I
 temid=0&amp;tmpl=component
DESCRIPTION:programme sera affiné par le canal whattsapp\n Cet évènement a été importé 
 depuis :https://thannski.com/component/jevents/detailevenement/1217/-/sss-m
 ardi-6?Itemid=0&amp;tmpl=component
X-ALT-DESC;FMTTYPE=text/html:<p>programme sera affiné par le canal whattsapp</p> <a href="https://thanns
 ki.com/component/jevents/detailevenement/1217/-/sss-mardi-6?Itemid=0&amp;tm
 pl=component">Cet évènement a été importé depuis :https://thannski.com/comp
 onent/jevents/detailevenement/1217/-/sss-mardi-6?Itemid=0&amp;tmpl=componen
 t</a>DTSTAMP:20260420T231538
DTSTART:20240206T130000
DTEND:20240206T180000
SEQUENCE:0
TRANSP:OPAQUE
END:VEVENT
END:VCALENDAR