BEGIN:VCALENDAR
VERSION:2.0
PRODID:-//jEvents 2.0 for Joomla//EN
CALSCALE:GREGORIAN
METHOD:PUBLISH
BEGIN:VEVENT
UID:ccec8f65975a9ee510eb8d812cce7944
CATEGORIES:Entrainements / Massif
CREATED:20240206T155034
SUMMARY:Ski mercredi matin 7 fevrier
URL;VALUE=URI:https://thannski.com/component/jevents/detailevenement/1220/-/ski-mercredi-
 matin-7-fevrier?Itemid=0&amp;tmpl=component
DESCRIPTION: Cet évènement a été importé depuis :https://thannski.com/component/jevents
 /detailevenement/1220/-/ski-mercredi-matin-7-fevrier?Itemid=0&amp;tmpl=comp
 onent
X-ALT-DESC;FMTTYPE=text/html: <a href="https://thannski.com/component/jevents/detailevenement/1220/-/ski
 -mercredi-matin-7-fevrier?Itemid=0&amp;tmpl=component">Cet évènement a été 
 importé depuis :https://thannski.com/component/jevents/detailevenement/1220
 /-/ski-mercredi-matin-7-fevrier?Itemid=0&amp;tmpl=component</a>DTSTAMP:20260420T232827
DTSTART:20240207T080000
DTEND:20240207T124500
SEQUENCE:0
TRANSP:OPAQUE
END:VEVENT
END:VCALENDAR