BEGIN:VCALENDAR
VERSION:2.0
PRODID:-//jEvents 2.0 for Joomla//EN
CALSCALE:GREGORIAN
METHOD:PUBLISH
BEGIN:VEVENT
UID:3dc4c481fbccdd1add2dfb6c11a2a8e6
CATEGORIES:Entrainements / Massif
CREATED:20240212T212238
SUMMARY:SSS mardi 13 fev
URL;VALUE=URI:https://thannski.com/component/jevents/detailevenement/1221/-/sss-mardi-13-
 fev?Itemid=0&amp;tmpl=component
DESCRIPTION:skis de slalom\n Cet évènement a été importé depuis :https://thannski.com/c
 omponent/jevents/detailevenement/1221/-/sss-mardi-13-fev?Itemid=0&amp;tmpl=
 component
X-ALT-DESC;FMTTYPE=text/html:<p>skis de slalom</p> <a href="https://thannski.com/component/jevents/detai
 levenement/1221/-/sss-mardi-13-fev?Itemid=0&amp;tmpl=component">Cet évèneme
 nt a été importé depuis :https://thannski.com/component/jevents/detailevene
 ment/1221/-/sss-mardi-13-fev?Itemid=0&amp;tmpl=component</a>DTSTAMP:20260420T182147
DTSTART:20240213T125000
DTEND:20240213T173000
SEQUENCE:0
TRANSP:OPAQUE
END:VEVENT
END:VCALENDAR