BEGIN:VCALENDAR
VERSION:2.0
PRODID:-//jEvents 2.0 for Joomla//EN
CALSCALE:GREGORIAN
METHOD:PUBLISH
BEGIN:VEVENT
UID:e7ac8c21aed5cbdb74da618b660ec188
CATEGORIES:Entrainements / Massif
CREATED:20240213T175125
SUMMARY:ski mercredi matin 14 février
URL;VALUE=URI:https://thannski.com/component/jevents/detailevenement/1223/-/ski-mercredi-
 matin-14-fevrier?Itemid=0&amp;tmpl=component
DESCRIPTION: Cet évènement a été importé depuis :https://thannski.com/component/jevents
 /detailevenement/1223/-/ski-mercredi-matin-14-fevrier?Itemid=0&amp;tmpl=com
 ponent
X-ALT-DESC;FMTTYPE=text/html: <a href="https://thannski.com/component/jevents/detailevenement/1223/-/ski
 -mercredi-matin-14-fevrier?Itemid=0&amp;tmpl=component">Cet évènement a été
  importé depuis :https://thannski.com/component/jevents/detailevenement/122
 3/-/ski-mercredi-matin-14-fevrier?Itemid=0&amp;tmpl=component</a>DTSTAMP:20260420T182146
DTSTART:20240214T080000
DTEND:20240214T124500
SEQUENCE:0
TRANSP:OPAQUE
END:VEVENT
END:VCALENDAR