BEGIN:VCALENDAR
VERSION:2.0
PRODID:-//jEvents 2.0 for Joomla//EN
CALSCALE:GREGORIAN
METHOD:PUBLISH
BEGIN:VEVENT
UID:f9279ffc24f92441e1b4cd0515d7722c
CATEGORIES:Autres Activités
CREATED:20241119T164725
SUMMARY:commande forfaits saison markstein thannski
URL;VALUE=URI:https://thannski.com/component/jevents/detailevenement/1258/-/commande-forf
 aits-saison-markstein-thannski?Itemid=0&amp;tmpl=component
DESCRIPTION: Cet évènement a été importé depuis :https://thannski.com/component/jevents
 /detailevenement/1258/-/commande-forfaits-saison-markstein-thannski?Itemid=
 0&amp;tmpl=component
X-ALT-DESC;FMTTYPE=text/html: <a href="https://thannski.com/component/jevents/detailevenement/1258/-/com
 mande-forfaits-saison-markstein-thannski?Itemid=0&amp;tmpl=component">Cet é
 vènement a été importé depuis :https://thannski.com/component/jevents/detai
 levenement/1258/-/commande-forfaits-saison-markstein-thannski?Itemid=0&amp;
 tmpl=component</a>DTSTAMP:20260420T173726
DTSTART:20241119T080000
DTEND:20241211T170000
SEQUENCE:0
TRANSP:OPAQUE
END:VEVENT
END:VCALENDAR