BEGIN:VCALENDAR
VERSION:2.0
PRODID:-//jEvents 2.0 for Joomla//EN
CALSCALE:GREGORIAN
METHOD:PUBLISH
BEGIN:VEVENT
UID:ea1285f5847d327e0d94c1f49609df57
CATEGORIES:Entrainements / Massif
CREATED:20241122T085410
SUMMARY:ent ski samedi matin 23 Novembre
URL;VALUE=URI:https://thannski.com/component/jevents/detailevenement/1259/-/ent-ski-samed
 i-matin-23-novembre?Itemid=0&amp;tmpl=component
DESCRIPTION:Bonjour à tous\nPremiere sortie de la saison!!\nDépart 8h du local et ramas
 sage vallée\nretour vers 12h45\n Cet évènement a été importé depuis :https:
 //thannski.com/component/jevents/detailevenement/1259/-/ent-ski-samedi-mati
 n-23-novembre?Itemid=0&amp;tmpl=component
X-ALT-DESC;FMTTYPE=text/html:<p>Bonjour à tous</p><p>Premiere sortie de la saison!!</p><p>Départ 8h du l
 ocal et ramassage vallée</p><p>retour vers 12h45</p> <a href="https://thann
 ski.com/component/jevents/detailevenement/1259/-/ent-ski-samedi-matin-23-no
 vembre?Itemid=0&amp;tmpl=component">Cet évènement a été importé depuis :htt
 ps://thannski.com/component/jevents/detailevenement/1259/-/ent-ski-samedi-m
 atin-23-novembre?Itemid=0&amp;tmpl=component</a>DTSTAMP:20260420T175513
DTSTART:20241123T080000
DTEND:20241123T124500
SEQUENCE:0
TRANSP:OPAQUE
END:VEVENT
END:VCALENDAR