BEGIN:VCALENDAR
VERSION:2.0
PRODID:-//jEvents 2.0 for Joomla//EN
CALSCALE:GREGORIAN
METHOD:PUBLISH
BEGIN:VEVENT
UID:f1fa401968407b814e093b4db341f276
CATEGORIES:Entrainements / Massif
CREATED:20241224T105943
SUMMARY:Ent ski libre jeudi 26 matin
URL;VALUE=URI:https://thannski.com/component/jevents/detailevenement/1266/-/ent-ski-libre
 -jeudi-26-matin?Itemid=0&amp;tmpl=component
DESCRIPTION: Cet évènement a été importé depuis :https://thannski.com/component/jevents
 /detailevenement/1266/-/ent-ski-libre-jeudi-26-matin?Itemid=0&amp;tmpl=comp
 onent
X-ALT-DESC;FMTTYPE=text/html: <a href="https://thannski.com/component/jevents/detailevenement/1266/-/ent
 -ski-libre-jeudi-26-matin?Itemid=0&amp;tmpl=component">Cet évènement a été 
 importé depuis :https://thannski.com/component/jevents/detailevenement/1266
 /-/ent-ski-libre-jeudi-26-matin?Itemid=0&amp;tmpl=component</a>DTSTAMP:20260420T174617
DTSTART:20241226T080000
DTEND:20241226T124500
SEQUENCE:0
TRANSP:OPAQUE
END:VEVENT
END:VCALENDAR