BEGIN:VCALENDAR
VERSION:2.0
PRODID:-//jEvents 2.0 for Joomla//EN
CALSCALE:GREGORIAN
METHOD:PUBLISH
BEGIN:VEVENT
UID:45b6cafc2fb4703adde55d55115656a6
CATEGORIES:Entrainements / Massif
CREATED:20241224T125937
SUMMARY:Ent ski vendredi 27 décembre 
URL;VALUE=URI:https://thannski.com/component/jevents/detailevenement/1267/-/ent-ski-vendr
 edi-27-decembre?Itemid=0&amp;tmpl=component
DESCRIPTION: Cet évènement a été importé depuis :https://thannski.com/component/jevents
 /detailevenement/1267/-/ent-ski-vendredi-27-decembre?Itemid=0&amp;tmpl=comp
 onent
X-ALT-DESC;FMTTYPE=text/html: <a href="https://thannski.com/component/jevents/detailevenement/1267/-/ent
 -ski-vendredi-27-decembre?Itemid=0&amp;tmpl=component">Cet évènement a été 
 importé depuis :https://thannski.com/component/jevents/detailevenement/1267
 /-/ent-ski-vendredi-27-decembre?Itemid=0&amp;tmpl=component</a>DTSTAMP:20260420T174720
DTSTART:20241227T130000
DTEND:20241227T180000
SEQUENCE:0
TRANSP:OPAQUE
END:VEVENT
END:VCALENDAR