BEGIN:VCALENDAR
VERSION:2.0
PRODID:-//jEvents 2.0 for Joomla//EN
CALSCALE:GREGORIAN
METHOD:PUBLISH
BEGIN:VEVENT
UID:10c183a9ef0a357cb8da89611d44dc5d
CATEGORIES:Entrainements / Massif
CREATED:20250121T161340
SUMMARY:Entraînement mercredi matin 22 janvier
URL;VALUE=URI:https://thannski.com/component/jevents/detailevenement/1281/-/entrainement-
 mercredi-matin-22-janvier?Itemid=0&amp;tmpl=component
DESCRIPTION: Cet évènement a été importé depuis :https://thannski.com/component/jevents
 /detailevenement/1281/-/entrainement-mercredi-matin-22-janvier?Itemid=0&amp
 ;tmpl=component
X-ALT-DESC;FMTTYPE=text/html: <a href="https://thannski.com/component/jevents/detailevenement/1281/-/ent
 rainement-mercredi-matin-22-janvier?Itemid=0&amp;tmpl=component">Cet évènem
 ent a été importé depuis :https://thannski.com/component/jevents/detaileven
 ement/1281/-/entrainement-mercredi-matin-22-janvier?Itemid=0&amp;tmpl=compo
 nent</a>DTSTAMP:20260420T165131
DTSTART:20250122T081500
DTEND:20250122T124500
SEQUENCE:0
TRANSP:OPAQUE
END:VEVENT
END:VCALENDAR