BEGIN:VCALENDAR
VERSION:2.0
PRODID:-//jEvents 2.0 for Joomla//EN
CALSCALE:GREGORIAN
METHOD:PUBLISH
BEGIN:VEVENT
UID:e468c806d9fe4cd139de922e1c139b40
CATEGORIES:Entrainements / Massif
CREATED:20250130T065932
SUMMARY:entraînement samedi matin
URL;VALUE=URI:https://thannski.com/component/jevents/detailevenement/1291/-/entrainement-
 samedi-matin?Itemid=0&amp;tmpl=component
DESCRIPTION: Cet évènement a été importé depuis :https://thannski.com/component/jevents
 /detailevenement/1291/-/entrainement-samedi-matin?Itemid=0&amp;tmpl=compone
 nt
X-ALT-DESC;FMTTYPE=text/html: <a href="https://thannski.com/component/jevents/detailevenement/1291/-/ent
 rainement-samedi-matin?Itemid=0&amp;tmpl=component">Cet évènement a été imp
 orté depuis :https://thannski.com/component/jevents/detailevenement/1291/-/
 entrainement-samedi-matin?Itemid=0&amp;tmpl=component</a>DTSTAMP:20260420T164630
DTSTART:20250201T080000
DTEND:20250201T123000
SEQUENCE:0
TRANSP:OPAQUE
END:VEVENT
END:VCALENDAR