BEGIN:VCALENDAR
VERSION:2.0
PRODID:-//jEvents 2.0 for Joomla//EN
CALSCALE:GREGORIAN
METHOD:PUBLISH
BEGIN:VEVENT
UID:aea8f4cd2aa74bcd47b0d442816e98c8
CATEGORIES:Entrainements / Massif
CREATED:20250203T070929
SUMMARY:sss mardi 4/02
URL;VALUE=URI:https://thannski.com/component/jevents/detailevenement/1294/-/sss-mardi-4-0
 2?Itemid=0&amp;tmpl=component
DESCRIPTION:séance de slalom grands piquets\n Cet évènement a été importé depuis :https
 ://thannski.com/component/jevents/detailevenement/1294/-/sss-mardi-4-02?Ite
 mid=0&amp;tmpl=component
X-ALT-DESC;FMTTYPE=text/html:<p>séance de slalom grands piquets</p> <a href="https://thannski.com/compon
 ent/jevents/detailevenement/1294/-/sss-mardi-4-02?Itemid=0&amp;tmpl=compone
 nt">Cet évènement a été importé depuis :https://thannski.com/component/jeve
 nts/detailevenement/1294/-/sss-mardi-4-02?Itemid=0&amp;tmpl=component</a>DTSTAMP:20260420T164718
DTSTART:20250203T125000
SEQUENCE:0
TRANSP:OPAQUE
END:VEVENT
END:VCALENDAR