BEGIN:VCALENDAR
VERSION:2.0
PRODID:-//jEvents 2.0 for Joomla//EN
CALSCALE:GREGORIAN
METHOD:PUBLISH
BEGIN:VEVENT
UID:7c5e349952726d508e141fe0bcbdae29
CATEGORIES:Entrainements / Massif
CREATED:20250204T154125
SUMMARY:ski mercredi matin 5 février
URL;VALUE=URI:https://thannski.com/component/jevents/detailevenement/1295/-/ski-mercredi-
 matin-5-fevrier?Itemid=0&amp;tmpl=component
DESCRIPTION: Cet évènement a été importé depuis :https://thannski.com/component/jevents
 /detailevenement/1295/-/ski-mercredi-matin-5-fevrier?Itemid=0&amp;tmpl=comp
 onent
X-ALT-DESC;FMTTYPE=text/html: <a href="https://thannski.com/component/jevents/detailevenement/1295/-/ski
 -mercredi-matin-5-fevrier?Itemid=0&amp;tmpl=component">Cet évènement a été 
 importé depuis :https://thannski.com/component/jevents/detailevenement/1295
 /-/ski-mercredi-matin-5-fevrier?Itemid=0&amp;tmpl=component</a>DTSTAMP:20260420T162255
DTSTART:20250205T080000
DTEND:20250205T124500
SEQUENCE:0
TRANSP:OPAQUE
END:VEVENT
END:VCALENDAR