BEGIN:VCALENDAR
VERSION:2.0
PRODID:-//jEvents 2.0 for Joomla//EN
CALSCALE:GREGORIAN
METHOD:PUBLISH
BEGIN:VEVENT
UID:4aaa097b8f64abc16fa766a0b0410942
CATEGORIES:Entrainements / Massif
CREATED:20250204T154305
SUMMARY:ski mercredi ap midi 5 février
URL;VALUE=URI:https://thannski.com/component/jevents/detailevenement/1296/-/ski-mercredi-
 ap-midi-5-fevrier?Itemid=0&amp;tmpl=component
DESCRIPTION: Cet évènement a été importé depuis :https://thannski.com/component/jevents
 /detailevenement/1296/-/ski-mercredi-ap-midi-5-fevrier?Itemid=0&amp;tmpl=co
 mponent
X-ALT-DESC;FMTTYPE=text/html: <a href="https://thannski.com/component/jevents/detailevenement/1296/-/ski
 -mercredi-ap-midi-5-fevrier?Itemid=0&amp;tmpl=component">Cet évènement a ét
 é importé depuis :https://thannski.com/component/jevents/detailevenement/12
 96/-/ski-mercredi-ap-midi-5-fevrier?Itemid=0&amp;tmpl=component</a>DTSTAMP:20260420T162228
DTSTART:20250205T130000
DTEND:20250205T180000
SEQUENCE:0
TRANSP:OPAQUE
END:VEVENT
END:VCALENDAR