BEGIN:VCALENDAR
VERSION:2.0
PRODID:-//jEvents 2.0 for Joomla//EN
CALSCALE:GREGORIAN
METHOD:PUBLISH
BEGIN:VEVENT
UID:7c8656ec3086e943847c831368abe054
CATEGORIES:Entrainements / Massif
CREATED:20250210T154320
SUMMARY:Ski journée Markstein 13 fevrier
URL;VALUE=URI:https://thannski.com/component/jevents/detailevenement/1300/-/ski-journee-m
 arkstein-13-fevrier?Itemid=0&amp;tmpl=component
DESCRIPTION: Cet évènement a été importé depuis :https://thannski.com/component/jevents
 /detailevenement/1300/-/ski-journee-markstein-13-fevrier?Itemid=0&amp;tmpl=
 component
X-ALT-DESC;FMTTYPE=text/html: <a href="https://thannski.com/component/jevents/detailevenement/1300/-/ski
 -journee-markstein-13-fevrier?Itemid=0&amp;tmpl=component">Cet évènement a 
 été importé depuis :https://thannski.com/component/jevents/detailevenement/
 1300/-/ski-journee-markstein-13-fevrier?Itemid=0&amp;tmpl=component</a>DTSTAMP:20260420T162243
DTSTART:20250213T080000
DTEND:20250213T170000
SEQUENCE:0
TRANSP:OPAQUE
END:VEVENT
END:VCALENDAR