BEGIN:VCALENDAR
VERSION:2.0
PRODID:-//jEvents 2.0 for Joomla//EN
CALSCALE:GREGORIAN
METHOD:PUBLISH
BEGIN:VEVENT
UID:7967d252466c6d7b11d2477319f96a5b
CATEGORIES:Entrainements / Massif
CREATED:20250210T154521
SUMMARY:Ski journée 14 fevrier markstein
URL;VALUE=URI:https://thannski.com/component/jevents/detailevenement/1301/-/ski-journee-1
 4-fevrier-markstein?Itemid=0&amp;tmpl=component
DESCRIPTION: Cet évènement a été importé depuis :https://thannski.com/component/jevents
 /detailevenement/1301/-/ski-journee-14-fevrier-markstein?Itemid=0&amp;tmpl=
 component
X-ALT-DESC;FMTTYPE=text/html: <a href="https://thannski.com/component/jevents/detailevenement/1301/-/ski
 -journee-14-fevrier-markstein?Itemid=0&amp;tmpl=component">Cet évènement a 
 été importé depuis :https://thannski.com/component/jevents/detailevenement/
 1301/-/ski-journee-14-fevrier-markstein?Itemid=0&amp;tmpl=component</a>DTSTAMP:20260420T164340
DTSTART:20250214T080000
DTEND:20250214T170000
SEQUENCE:0
TRANSP:OPAQUE
END:VEVENT
END:VCALENDAR