BEGIN:VCALENDAR
VERSION:2.0
PRODID:-//jEvents 2.0 for Joomla//EN
CALSCALE:GREGORIAN
METHOD:PUBLISH
BEGIN:VEVENT
UID:30da3680b610b4e6e534e76a063c8d8b
CATEGORIES:Entrainements / Massif
CREATED:20250225T183752
SUMMARY:entraînement mercredi matin
URL;VALUE=URI:https://thannski.com/component/jevents/detailevenement/1307/-/entrainement-
 mercredi-matin?Itemid=0&amp;tmpl=component
DESCRIPTION: Cet évènement a été importé depuis :https://thannski.com/component/jevents
 /detailevenement/1307/-/entrainement-mercredi-matin?Itemid=0&amp;tmpl=compo
 nent
X-ALT-DESC;FMTTYPE=text/html: <a href="https://thannski.com/component/jevents/detailevenement/1307/-/ent
 rainement-mercredi-matin?Itemid=0&amp;tmpl=component">Cet évènement a été i
 mporté depuis :https://thannski.com/component/jevents/detailevenement/1307/
 -/entrainement-mercredi-matin?Itemid=0&amp;tmpl=component</a>DTSTAMP:20260420T165111
DTSTART:20250226T080000
DTEND:20250226T123000
SEQUENCE:0
TRANSP:OPAQUE
END:VEVENT
END:VCALENDAR