BEGIN:VCALENDAR
VERSION:2.0
PRODID:-//jEvents 2.0 for Joomla//EN
CALSCALE:GREGORIAN
METHOD:PUBLISH
BEGIN:VEVENT
UID:813868be0f2fa8c7925c87e293521535
CATEGORIES:Entrainements / Massif
CREATED:20250302T092518
SUMMARY:SSS mardi 4/03
URL;VALUE=URI:https://thannski.com/component/jevents/detailevenement/1309/-/sss-mardi-4-0
 3?Itemid=0&amp;tmpl=component
DESCRIPTION:Slalom au Markstein\n Cet évènement a été importé depuis :https://thannski.
 com/component/jevents/detailevenement/1309/-/sss-mardi-4-03?Itemid=0&amp;tm
 pl=component
X-ALT-DESC;FMTTYPE=text/html:<p>Slalom au Markstein</p> <a href="https://thannski.com/component/jevents/
 detailevenement/1309/-/sss-mardi-4-03?Itemid=0&amp;tmpl=component">Cet évèn
 ement a été importé depuis :https://thannski.com/component/jevents/detailev
 enement/1309/-/sss-mardi-4-03?Itemid=0&amp;tmpl=component</a>DTSTAMP:20260420T165227
DTSTART:20250304T125000
DTEND:20250304T173000
SEQUENCE:0
TRANSP:OPAQUE
END:VEVENT
END:VCALENDAR