BEGIN:VCALENDAR
VERSION:2.0
PRODID:-//jEvents 2.0 for Joomla//EN
CALSCALE:GREGORIAN
METHOD:PUBLISH
BEGIN:VEVENT
UID:c47d68092921e6e59ed1151ea7637a98
CATEGORIES:Entrainements / Massif
CREATED:20250304T085318
SUMMARY:ski mercredi matin 5 mars 
URL;VALUE=URI:https://thannski.com/component/jevents/detailevenement/1310/-/ski-mercredi-
 matin-5-mars?Itemid=0&amp;tmpl=component
DESCRIPTION: Cet évènement a été importé depuis :https://thannski.com/component/jevents
 /detailevenement/1310/-/ski-mercredi-matin-5-mars?Itemid=0&amp;tmpl=compone
 nt
X-ALT-DESC;FMTTYPE=text/html: <a href="https://thannski.com/component/jevents/detailevenement/1310/-/ski
 -mercredi-matin-5-mars?Itemid=0&amp;tmpl=component">Cet évènement a été imp
 orté depuis :https://thannski.com/component/jevents/detailevenement/1310/-/
 ski-mercredi-matin-5-mars?Itemid=0&amp;tmpl=component</a>DTSTAMP:20260420T165130
DTSTART:20250305T081500
DTEND:20250305T124500
SEQUENCE:0
TRANSP:OPAQUE
END:VEVENT
END:VCALENDAR