BEGIN:VCALENDAR
VERSION:2.0
PRODID:-//jEvents 2.0 for Joomla//EN
CALSCALE:GREGORIAN
METHOD:PUBLISH
BEGIN:VEVENT
UID:ed5846789f7b97652a552366f1b4fe65
CATEGORIES:Entrainements / Massif
CREATED:20250304T085511
SUMMARY:Ski mercredi ap midi 5 mars
URL;VALUE=URI:https://thannski.com/component/jevents/detailevenement/1311/-/ski-mercredi-
 ap-midi-5-mars?Itemid=0&amp;tmpl=component
DESCRIPTION: Cet évènement a été importé depuis :https://thannski.com/component/jevents
 /detailevenement/1311/-/ski-mercredi-ap-midi-5-mars?Itemid=0&amp;tmpl=compo
 nent
X-ALT-DESC;FMTTYPE=text/html: <a href="https://thannski.com/component/jevents/detailevenement/1311/-/ski
 -mercredi-ap-midi-5-mars?Itemid=0&amp;tmpl=component">Cet évènement a été i
 mporté depuis :https://thannski.com/component/jevents/detailevenement/1311/
 -/ski-mercredi-ap-midi-5-mars?Itemid=0&amp;tmpl=component</a>DTSTAMP:20260420T164320
DTSTART:20250305T130000
DTEND:20250305T180000
SEQUENCE:0
TRANSP:OPAQUE
END:VEVENT
END:VCALENDAR