BEGIN:VCALENDAR
VERSION:2.0
PRODID:-//jEvents 2.0 for Joomla//EN
CALSCALE:GREGORIAN
METHOD:PUBLISH
BEGIN:VEVENT
UID:77fea9e3a44c381480340c3222025564
CATEGORIES:Entrainements / Massif
CREATED:20250310T115012
SUMMARY:SSS mardi 11/03
LOCATION:La Bresse
URL;VALUE=URI:https://thannski.com/component/jevents/detailevenement/1315/-/sss-mardi-11-
 03?Itemid=0&amp;tmpl=component
DESCRIPTION: Cet évènement a été importé depuis :https://thannski.com/component/jevents
 /detailevenement/1315/-/sss-mardi-11-03?Itemid=0&amp;tmpl=component
X-ALT-DESC;FMTTYPE=text/html: <a href="https://thannski.com/component/jevents/detailevenement/1315/-/sss
 -mardi-11-03?Itemid=0&amp;tmpl=component">Cet évènement a été importé depui
 s :https://thannski.com/component/jevents/detailevenement/1315/-/sss-mardi-
 11-03?Itemid=0&amp;tmpl=component</a>DTSTAMP:20260420T202335
DTSTART:20250311T125000
DTEND:20250311T175000
SEQUENCE:0
TRANSP:OPAQUE
END:VEVENT
END:VCALENDAR