BEGIN:VCALENDAR
VERSION:2.0
PRODID:-//jEvents 2.0 for Joomla//EN
CALSCALE:GREGORIAN
METHOD:PUBLISH
BEGIN:VEVENT
UID:bde10b200fbe96e6065394878c5645be
CATEGORIES:Entrainements / Massif
CREATED:20250316T102941
SUMMARY:SSS mardi 18/03
URL;VALUE=URI:https://thannski.com/component/jevents/detailevenement/1319/-/sss-mardi-18-
 03?Itemid=0&amp;tmpl=component
DESCRIPTION:Ski Technique à La Bfresse   ski de slalom et pas de protections \n Cet évè
 nement a été importé depuis :https://thannski.com/component/jevents/detaile
 venement/1319/-/sss-mardi-18-03?Itemid=0&amp;tmpl=component
X-ALT-DESC;FMTTYPE=text/html:<p>Ski Technique à La Bfresse &nbsp; ski de slalom et pas de protections&nb
 sp;</p> <a href="https://thannski.com/component/jevents/detailevenement/131
 9/-/sss-mardi-18-03?Itemid=0&amp;tmpl=component">Cet évènement a été import
 é depuis :https://thannski.com/component/jevents/detailevenement/1319/-/sss
 -mardi-18-03?Itemid=0&amp;tmpl=component</a>DTSTAMP:20260420T204902
DTSTART:20250318T125000
DTEND:20250318T175000
SEQUENCE:0
TRANSP:OPAQUE
END:VEVENT
END:VCALENDAR