BEGIN:VCALENDAR
VERSION:2.0
PRODID:-//jEvents 2.0 for Joomla//EN
CALSCALE:GREGORIAN
METHOD:PUBLISH
BEGIN:VEVENT
UID:0db9a69b8d4e40d187ca70e09c6402a5
CATEGORIES:Autres Activités
CREATED:20250422T170812
SUMMARY:hochterputz Markstein 17 Mai
URL;VALUE=URI:https://thannski.com/component/jevents/detailevenement/1325/-/hochterputz-m
 arkstein-17-mai?Itemid=0&amp;tmpl=component
DESCRIPTION: Cet évènement a été importé depuis :https://thannski.com/component/jevents
 /detailevenement/1325/-/hochterputz-markstein-17-mai?Itemid=0&amp;tmpl=comp
 onent
X-ALT-DESC;FMTTYPE=text/html: <a href="https://thannski.com/component/jevents/detailevenement/1325/-/hoc
 hterputz-markstein-17-mai?Itemid=0&amp;tmpl=component">Cet évènement a été 
 importé depuis :https://thannski.com/component/jevents/detailevenement/1325
 /-/hochterputz-markstein-17-mai?Itemid=0&amp;tmpl=component</a>DTSTAMP:20260420T161348
DTSTART:20250517T080000
DTEND:20250517T120000
SEQUENCE:0
TRANSP:OPAQUE
END:VEVENT
END:VCALENDAR