BEGIN:VCALENDAR
VERSION:2.0
PRODID:-//jEvents 2.0 for Joomla//EN
CALSCALE:GREGORIAN
METHOD:PUBLISH
BEGIN:VEVENT
UID:7e9058856c7a6434e8f0b5248c42153d
CATEGORIES:Autres Activités
CREATED:20250518T134148
SUMMARY:essayage veste samedi matin 24 mai 
URL;VALUE=URI:https://thannski.com/component/jevents/detailevenement/1329/-/essayage-vest
 e-samedi-matin-24-mai?Itemid=0&amp;tmpl=component
DESCRIPTION: Cet évènement a été importé depuis :https://thannski.com/component/jevents
 /detailevenement/1329/-/essayage-veste-samedi-matin-24-mai?Itemid=0&amp;tmp
 l=component
X-ALT-DESC;FMTTYPE=text/html: <a href="https://thannski.com/component/jevents/detailevenement/1329/-/ess
 ayage-veste-samedi-matin-24-mai?Itemid=0&amp;tmpl=component">Cet évènement 
 a été importé depuis :https://thannski.com/component/jevents/detailevenemen
 t/1329/-/essayage-veste-samedi-matin-24-mai?Itemid=0&amp;tmpl=component</a>DTSTAMP:20260420T165111
DTSTART:20250524T090000
DTEND:20250524T120000
SEQUENCE:0
TRANSP:OPAQUE
END:VEVENT
END:VCALENDAR