BEGIN:VCALENDAR
VERSION:2.0
PRODID:-//jEvents 2.0 for Joomla//EN
CALSCALE:GREGORIAN
METHOD:PUBLISH
BEGIN:VEVENT
UID:b4780eb652b612020d4f8b489552fb9d
CATEGORIES:Entrainements / Massif
CREATED:20251104T164756
SUMMARY:ent physique mercredi ap midi 5 novembre
URL;VALUE=URI:https://thannski.com/component/jevents/detailevenement/1353/-/ent-physique-
 mercredi-ap-midi-5-novembre?Itemid=0&amp;tmpl=component
DESCRIPTION: Cet évènement a été importé depuis :https://thannski.com/component/jevents
 /detailevenement/1353/-/ent-physique-mercredi-ap-midi-5-novembre?Itemid=0&a
 mp;tmpl=component
X-ALT-DESC;FMTTYPE=text/html: <a href="https://thannski.com/component/jevents/detailevenement/1353/-/ent
 -physique-mercredi-ap-midi-5-novembre?Itemid=0&amp;tmpl=component">Cet évèn
 ement a été importé depuis :https://thannski.com/component/jevents/detailev
 enement/1353/-/ent-physique-mercredi-ap-midi-5-novembre?Itemid=0&amp;tmpl=c
 omponent</a>DTSTAMP:20260420T154306
DTSTART:20251105T133000
DTEND:20251105T170000
SEQUENCE:0
TRANSP:OPAQUE
END:VEVENT
END:VCALENDAR