BEGIN:VCALENDAR
VERSION:2.0
PRODID:-//jEvents 2.0 for Joomla//EN
CALSCALE:GREGORIAN
METHOD:PUBLISH
BEGIN:VEVENT
UID:cc9bec2d5551df38936b3ef15235083e
CATEGORIES:Autres Activités
CREATED:20251205T132910
SUMMARY:téléthon à Moosch samedi 6 Décembre
URL;VALUE=URI:https://thannski.com/component/jevents/detailevenement/1362/-/telethon-a-mo
 osch-samedi-6-decembre?Itemid=0&amp;tmpl=component
DESCRIPTION: Cet évènement a été importé depuis :https://thannski.com/component/jevents
 /detailevenement/1362/-/telethon-a-moosch-samedi-6-decembre?Itemid=0&amp;tm
 pl=component
X-ALT-DESC;FMTTYPE=text/html: <a href="https://thannski.com/component/jevents/detailevenement/1362/-/tel
 ethon-a-moosch-samedi-6-decembre?Itemid=0&amp;tmpl=component">Cet évènement
  a été importé depuis :https://thannski.com/component/jevents/detaileveneme
 nt/1362/-/telethon-a-moosch-samedi-6-decembre?Itemid=0&amp;tmpl=component</
 a>DTSTAMP:20260420T190929
DTSTART:20251206T124500
DTEND:20251206T180000
SEQUENCE:0
TRANSP:OPAQUE
END:VEVENT
END:VCALENDAR