BEGIN:VCALENDAR
VERSION:2.0
PRODID:-//jEvents 2.0 for Joomla//EN
CALSCALE:GREGORIAN
METHOD:PUBLISH
BEGIN:VEVENT
UID:d5444c234599717a6ff8c69545a864a4
CATEGORIES:Entrainements / Massif
CREATED:20260104T180111
SUMMARY:SpEtSki Walch 1
LOCATION:La Bresse
URL;VALUE=URI:https://thannski.com/component/jevents/detailevenement/1366/-/spetski-walch
 -1?Itemid=0&amp;tmpl=component
DESCRIPTION:Séance ski à La Bresse\n Cet évènement a été importé depuis :https://thanns
 ki.com/component/jevents/detailevenement/1366/-/spetski-walch-1?Itemid=0&am
 p;tmpl=component
X-ALT-DESC;FMTTYPE=text/html:<p>Séance ski à La Bresse</p> <a href="https://thannski.com/component/jeven
 ts/detailevenement/1366/-/spetski-walch-1?Itemid=0&amp;tmpl=component">Cet 
 évènement a été importé depuis :https://thannski.com/component/jevents/deta
 ilevenement/1366/-/spetski-walch-1?Itemid=0&amp;tmpl=component</a>DTSTAMP:20260422T102145
DTSTART:20260106T125000
SEQUENCE:0
TRANSP:OPAQUE
END:VEVENT
END:VCALENDAR