BEGIN:VCALENDAR
VERSION:2.0
PRODID:-//jEvents 2.0 for Joomla//EN
CALSCALE:GREGORIAN
METHOD:PUBLISH
BEGIN:VEVENT
UID:3193e63c4f69fff4b39962e1758ed48d
CATEGORIES:Compétitions
CREATED:20260107T230520
SUMMARY:micro coupe U8/10 et promo à La Bresse 
LOCATION:La Bresse
URL;VALUE=URI:https://thannski.com/component/jevents/detailevenement/1369/-/micro-coupe-u
 8-10-et-promo-a-la-bresse?Itemid=0&amp;tmpl=component
DESCRIPTION: Cet évènement a été importé depuis :https://thannski.com/component/jevents
 /detailevenement/1369/-/micro-coupe-u8-10-et-promo-a-la-bresse?Itemid=0&amp
 ;tmpl=component
X-ALT-DESC;FMTTYPE=text/html: <a href="https://thannski.com/component/jevents/detailevenement/1369/-/mic
 ro-coupe-u8-10-et-promo-a-la-bresse?Itemid=0&amp;tmpl=component">Cet évènem
 ent a été importé depuis :https://thannski.com/component/jevents/detaileven
 ement/1369/-/micro-coupe-u8-10-et-promo-a-la-bresse?Itemid=0&amp;tmpl=compo
 nent</a>DTSTAMP:20260420T133807
DTSTART;VALUE=DATE:20260111
DTEND;VALUE=DATE:20260112
SEQUENCE:0
TRANSP:OPAQUE
END:VEVENT
END:VCALENDAR