BEGIN:VCALENDAR
VERSION:2.0
PRODID:-//jEvents 2.0 for Joomla//EN
CALSCALE:GREGORIAN
METHOD:PUBLISH
BEGIN:VEVENT
UID:a665e664326a7c81607a348e23145347
CATEGORIES:Entrainements / Massif
CREATED:20260109T082229
SUMMARY:ent samedi matin 10 Janvier
URL;VALUE=URI:https://thannski.com/component/jevents/detailevenement/1371/-/ent-samedi-ma
 tin-10-janvier?Itemid=0&amp;tmpl=component
DESCRIPTION: Cet évènement a été importé depuis :https://thannski.com/component/jevents
 /detailevenement/1371/-/ent-samedi-matin-10-janvier?Itemid=0&amp;tmpl=compo
 nent
X-ALT-DESC;FMTTYPE=text/html: <a href="https://thannski.com/component/jevents/detailevenement/1371/-/ent
 -samedi-matin-10-janvier?Itemid=0&amp;tmpl=component">Cet évènement a été i
 mporté depuis :https://thannski.com/component/jevents/detailevenement/1371/
 -/ent-samedi-matin-10-janvier?Itemid=0&amp;tmpl=component</a>DTSTAMP:20260420T151010
DTSTART:20260110T080000
DTEND:20260110T124500
SEQUENCE:0
TRANSP:OPAQUE
END:VEVENT
END:VCALENDAR