BEGIN:VCALENDAR
VERSION:2.0
PRODID:-//jEvents 2.0 for Joomla//EN
CALSCALE:GREGORIAN
METHOD:PUBLISH
BEGIN:VEVENT
UID:80c7398544c51b6e764a8db7ffa3a52d
CATEGORIES:Entrainements / Massif
CREATED:20260109T082320
SUMMARY:ent samedi ap midi 10 janvier
URL;VALUE=URI:https://thannski.com/component/jevents/detailevenement/1372/-/ent-samedi-ap
 -midi-10-janvier?Itemid=0&amp;tmpl=component
DESCRIPTION: Cet évènement a été importé depuis :https://thannski.com/component/jevents
 /detailevenement/1372/-/ent-samedi-ap-midi-10-janvier?Itemid=0&amp;tmpl=com
 ponent
X-ALT-DESC;FMTTYPE=text/html: <a href="https://thannski.com/component/jevents/detailevenement/1372/-/ent
 -samedi-ap-midi-10-janvier?Itemid=0&amp;tmpl=component">Cet évènement a été
  importé depuis :https://thannski.com/component/jevents/detailevenement/137
 2/-/ent-samedi-ap-midi-10-janvier?Itemid=0&amp;tmpl=component</a>DTSTAMP:20260420T135218
DTSTART:20260110T130000
DTEND:20260110T180000
SEQUENCE:0
TRANSP:OPAQUE
END:VEVENT
END:VCALENDAR