BEGIN:VCALENDAR
VERSION:2.0
PRODID:-//jEvents 2.0 for Joomla//EN
CALSCALE:GREGORIAN
METHOD:PUBLISH
BEGIN:VEVENT
UID:0079d38c471f876a6b0a81eb53ae6515
CATEGORIES:Compétitions
CREATED:20260113T192512
SUMMARY:Coupe de Bronze U14 et +, Gerardmer Slalom
URL;VALUE=URI:https://thannski.com/component/jevents/detailevenement/1376/-/coupe-de-bron
 ze-u14-et-gerardmer-slalom?Itemid=0&amp;tmpl=component
DESCRIPTION: Cet évènement a été importé depuis :https://thannski.com/component/jevents
 /detailevenement/1376/-/coupe-de-bronze-u14-et-gerardmer-slalom?Itemid=0&am
 p;tmpl=component
X-ALT-DESC;FMTTYPE=text/html: <a href="https://thannski.com/component/jevents/detailevenement/1376/-/cou
 pe-de-bronze-u14-et-gerardmer-slalom?Itemid=0&amp;tmpl=component">Cet évène
 ment a été importé depuis :https://thannski.com/component/jevents/detaileve
 nement/1376/-/coupe-de-bronze-u14-et-gerardmer-slalom?Itemid=0&amp;tmpl=com
 ponent</a>DTSTAMP:20260420T150901
DTSTART;VALUE=DATE:20260117
DTEND;VALUE=DATE:20260118
SEQUENCE:0
TRANSP:OPAQUE
END:VEVENT
END:VCALENDAR