BEGIN:VCALENDAR
VERSION:2.0
PRODID:-//jEvents 2.0 for Joomla//EN
CALSCALE:GREGORIAN
METHOD:PUBLISH
BEGIN:VEVENT
UID:624ee2d6bf87893e5372c0e363e2d494
CATEGORIES:Entrainements / Massif
CREATED:20220108T180404
SUMMARY:SSS 2
URL;VALUE=URI:https://thannski.com/component/jevents/detailevenement/963/-/sss-2?Itemid=0
 &amp;tmpl=component
DESCRIPTION:SÉANCE DE SLALOM 12h50 au collège\n Cet évènement a été importé depuis :htt
 ps://thannski.com/component/jevents/detailevenement/963/-/sss-2?Itemid=0&am
 p;tmpl=component (https://thannski.com/component/jevents/detailevenement/96
 3/-/sss-2?Itemid=0&amp;tmpl=component)
X-ALT-DESC;FMTTYPE=text/html:<p>SÉANCE DE SLALOM 12h50 au collège</p> <a href="https://thannski.com/comp
 onent/jevents/detailevenement/963/-/sss-2?Itemid=0&amp;tmpl=component">Cet 
 évènement a été importé depuis :https://thannski.com/component/jevents/deta
 ilevenement/963/-/sss-2?Itemid=0&amp;tmpl=component</a>DTSTAMP:20260424T223634
DTSTART:20220111T080000
DTEND:20220111T170000
SEQUENCE:0
TRANSP:OPAQUE
END:VEVENT
END:VCALENDAR