BEGIN:VCALENDAR
VERSION:2.0
PRODID:-//jEvents 2.0 for Joomla//EN
CALSCALE:GREGORIAN
METHOD:PUBLISH
BEGIN:VEVENT
UID:cc83aebaa62c3c19a71cdc81a4366059
CATEGORIES:Entrainements / Massif
CREATED:20220110T193408
SUMMARY:entraînement mercredi ap midi 12 Janvier toutes catégories
URL;VALUE=URI:https://thannski.com/component/jevents/detailevenement/964/-/entrainement-m
 ercredi-ap-midi-12-janvier-toutes-categories?Itemid=0&amp;tmpl=component
DESCRIPTION:Bonjour à tous\nEn raison de la tenue des championnats d'académie mercredi 
 matin, l'entraînement est exceptionnellement l'après midi pour tout le mond
 e.\nRDV 13h chez ardizio et ramassage qui suit.\nAttention il ne sera plus 
 possible de se désinscrire après 16h mardi soir (sauf maladie ou blessure) 
 pour des questions d'organisation.\nRetour vers 17h45\n \n Cet évènement a 
 été importé depuis :https://thannski.com/component/jevents/detailevenement/
 964/-/entrainement-mercredi-ap-midi-12-janvier-toutes-categories?Itemid=0&a
 mp;tmpl=component
X-ALT-DESC;FMTTYPE=text/html:<p>Bonjour à tous</p><p>En raison de la tenue des championnats d'académie m
 ercredi matin, l'entraînement est exceptionnellement l'après midi pour tout
  le monde.</p><p>RDV 13h chez ardizio et ramassage qui suit.</p><p>Attentio
 n il ne sera plus possible de se désinscrire après 16h mardi soir (sauf mal
 adie ou blessure) pour des questions d'organisation.</p><p>Retour vers 17h4
 5</p><p>&nbsp;</p> <a href="https://thannski.com/component/jevents/detailev
 enement/964/-/entrainement-mercredi-ap-midi-12-janvier-toutes-categories?It
 emid=0&amp;tmpl=component">Cet évènement a été importé depuis :https://than
 nski.com/component/jevents/detailevenement/964/-/entrainement-mercredi-ap-m
 idi-12-janvier-toutes-categories?Itemid=0&amp;tmpl=component</a>DTSTAMP:20260424T223243
DTSTART:20220112T130000
DTEND:20220112T180000
SEQUENCE:0
TRANSP:OPAQUE
END:VEVENT
END:VCALENDAR