BEGIN:VCALENDAR
VERSION:2.0
PRODID:-//jEvents 2.0 for Joomla//EN
CALSCALE:GREGORIAN
METHOD:PUBLISH
BEGIN:VEVENT
UID:99ec4d014e83cf51315d86e30b8fd7f3
CATEGORIES:Entrainements / Massif
CREATED:20220113T093022
SUMMARY:entraînement samedi matin 15 janvier
URL;VALUE=URI:https://thannski.com/component/jevents/detailevenement/967/-/entrainement-s
 amedi-matin-15-janvier?Itemid=0&amp;tmpl=component
DESCRIPTION:Bonjour à tous\nRDV 8H chez ardizio plus ramassage \nSeance de slalom\nReto
 ur aux alentours de 12H45\n Cet évènement a été importé depuis :https://tha
 nnski.com/component/jevents/detailevenement/967/-/entrainement-samedi-matin
 -15-janvier?Itemid=0&amp;tmpl=component
X-ALT-DESC;FMTTYPE=text/html:<p>Bonjour à tous</p><p>RDV 8H chez ardizio plus ramassage&nbsp;</p><p>Sean
 ce de slalom</p><p>Retour aux alentours de 12H45</p> <a href="https://thann
 ski.com/component/jevents/detailevenement/967/-/entrainement-samedi-matin-1
 5-janvier?Itemid=0&amp;tmpl=component">Cet évènement a été importé depuis :
 https://thannski.com/component/jevents/detailevenement/967/-/entrainement-s
 amedi-matin-15-janvier?Itemid=0&amp;tmpl=component</a>DTSTAMP:20260424T223401
DTSTART:20220115T080000
DTEND:20220115T124500
SEQUENCE:0
TRANSP:OPAQUE
END:VEVENT
END:VCALENDAR