BEGIN:VCALENDAR
VERSION:2.0
PRODID:-//jEvents 2.0 for Joomla//EN
CALSCALE:GREGORIAN
METHOD:PUBLISH
BEGIN:VEVENT
UID:c0442f7c2f40a26fc0e00cef9ee6e46e
CATEGORIES:Entrainements / Massif
CREATED:20220113T093328
SUMMARY:ent samedi ap midi 15 janvier
URL;VALUE=URI:https://thannski.com/component/jevents/detailevenement/968/-/ent-samedi-ap-
 midi-15-janvier?Itemid=0&amp;tmpl=component
DESCRIPTION:Bonjour à tous\nEntraînement slalom \nrdv 13H chez ardizio et ramassage\nre
 tour vers 17H45\n Cet évènement a été importé depuis :https://thannski.com/
 component/jevents/detailevenement/968/-/ent-samedi-ap-midi-15-janvier?Itemi
 d=0&amp;tmpl=component
X-ALT-DESC;FMTTYPE=text/html:<p>Bonjour à tous</p><p>Entraînement slalom&nbsp;</p><p>rdv 13H chez ardizi
 o et ramassage</p><p>retour vers 17H45</p> <a href="https://thannski.com/co
 mponent/jevents/detailevenement/968/-/ent-samedi-ap-midi-15-janvier?Itemid=
 0&amp;tmpl=component">Cet évènement a été importé depuis :https://thannski.
 com/component/jevents/detailevenement/968/-/ent-samedi-ap-midi-15-janvier?I
 temid=0&amp;tmpl=component</a>DTSTAMP:20260424T223041
DTSTART:20220115T130000
DTEND:20220115T180000
SEQUENCE:0
TRANSP:OPAQUE
END:VEVENT
END:VCALENDAR