BEGIN:VCALENDAR
VERSION:2.0
PRODID:-//jEvents 2.0 for Joomla//EN
CALSCALE:GREGORIAN
METHOD:PUBLISH
BEGIN:VEVENT
UID:88eeecc44ba6d097da2d648a2ca0ca4b
CATEGORIES:Prépa Physique
CREATED:20200208T212248
SUMMARY:commande Vestes
URL;VALUE=URI:https://thannski.com/component/jevents/detailevenement/777/-/commande-veste
 s?Itemid=1&amp;tmpl=component
DESCRIPTION:Bonjour à tous\nNous souhaiterions faire une commande de vestes ouvert à to
 us les  clubs de la structure.\nVous trouverez les photos sur le site paren
 ts coureurs\nIl faut un minimum de trente pièces pour lancer la commande\nS
 i vous êtes intéressés inscrivez vous avant  le 10 mars au plus tard\nIl se
 ra peut être possible d'avoir des pantalons\nPrix: pour une veste enfant en
 viron 240 euros à confirmer nous sommes en négociation\n \n Cet évènement a
  été importé depuis :https://thannski.com/component/jevents/detailevenement
 /777/-/commande-vestes?Itemid=1&amp;tmpl=component
X-ALT-DESC;FMTTYPE=text/html:<p>Bonjour à tous</p><p>Nous souhaiterions faire une commande de vestes ouv
 ert à tous les&nbsp; clubs de la structure.</p><p>Vous trouverez les photos
  sur le site parents coureurs</p><p>Il faut un minimum de trente pièces pou
 r lancer la commande</p><p>Si vous êtes intéressés inscrivez vous avant&nbs
 p; le 10 mars au plus tard</p><p>Il sera peut être possible d'avoir des pan
 talons</p><p>Prix: pour une veste enfant environ 240 euros à confirmer nous
  sommes en négociation</p><p>&nbsp;</p> <a href="https://thannski.com/compo
 nent/jevents/detailevenement/777/-/commande-vestes?Itemid=1&amp;tmpl=compon
 ent">Cet évènement a été importé depuis :https://thannski.com/component/jev
 ents/detailevenement/777/-/commande-vestes?Itemid=1&amp;tmpl=component</a>DTSTAMP:20260425T010223
DTSTART:20200208T080000
DTEND:20200310T170000
SEQUENCE:0
TRANSP:OPAQUE
END:VEVENT
END:VCALENDAR