BEGIN:VCALENDAR
VERSION:2.0
PRODID:-//jEvents 2.0 for Joomla//EN
CALSCALE:GREGORIAN
METHOD:PUBLISH
BEGIN:VEVENT
UID:91167f5f8f8aceb660e111d57b6a817e
CATEGORIES:Stages hors Massif
CREATED:20200208T213813
SUMMARY:stage Février
URL;VALUE=URI:https://thannski.com/component/jevents/detailevenement/778/-/stage-fevrier?
 Itemid=1&amp;tmpl=component
DESCRIPTION:Stage Février\nVu l'enneigment dans notre massif, nous envisageons un stage
  dans les alpes .\nMerci de vous inscrire au plus vite et avant le 15 févri
 er pour une meilleure organisation \nStage de 4 jours la 2ème semaine des v
 acances., 90 euros/jours\n \n \n Cet évènement a été importé depuis :https:
 //thannski.com/component/jevents/detailevenement/778/-/stage-fevrier?Itemid
 =1&amp;tmpl=component
X-ALT-DESC;FMTTYPE=text/html:<p>Stage Février</p><p>Vu l'enneigment dans notre massif, nous envisageons 
 un stage dans les alpes .</p><p>Merci de vous inscrire au plus vite et avan
 t le 15 février pour une meilleure organisation&nbsp;</p><p>Stage de 4 jour
 s la 2ème semaine des vacances., 90 euros/jours</p><p>&nbsp;</p><p>&nbsp;</
 p> <a href="https://thannski.com/component/jevents/detailevenement/778/-/st
 age-fevrier?Itemid=1&amp;tmpl=component">Cet évènement a été importé depuis
  :https://thannski.com/component/jevents/detailevenement/778/-/stage-fevrie
 r?Itemid=1&amp;tmpl=component</a>DTSTAMP:20260425T033904
DTSTART:20200224T080000
DTEND:20200228T170000
SEQUENCE:0
TRANSP:OPAQUE
END:VEVENT
END:VCALENDAR