BEGIN:VCALENDAR
VERSION:2.0
PRODID:-//jEvents 2.0 for Joomla//EN
CALSCALE:GREGORIAN
METHOD:PUBLISH
BEGIN:VEVENT
UID:f056d221705971ec741dbe8f5fbd5d08
CATEGORIES:Stages hors Massif
CREATED:20200220T182750
SUMMARY:entraînement lundi 24 mercredi 26 vendredi 28
URL;VALUE=URI:https://thannski.com/component/jevents/detailevenement/784/-/entrainement-l
 undi-24-mercredi-26-vendredi-28?Itemid=1&amp;tmpl=component
DESCRIPTION:Bonjour\nComme dit sur Thannski voilà les inscriptions pour la suisse\nCeux
  qui sont déjà inscrits n'ont rien à faire il reste 3 places\nDépart 6h du 
 matin environ à Intermarché (je préciserai demain)\nRetour 19h environ\nPré
 voir un pique nique pour le midi\n Cet évènement a été importé depuis :http
 s://thannski.com/component/jevents/detailevenement/784/-/entrainement-lundi
 -24-mercredi-26-vendredi-28?Itemid=1&amp;tmpl=component
X-ALT-DESC;FMTTYPE=text/html:<p>Bonjour</p><p>Comme dit sur Thannski voilà les inscriptions pour la suis
 se</p><p>Ceux qui sont déjà inscrits n'ont rien à faire il reste 3 places</
 p><p>Départ 6h du matin environ à Intermarché (je préciserai demain)</p><p>
 Retour 19h environ</p><p>Prévoir un pique nique pour le midi</p> <a href="h
 ttps://thannski.com/component/jevents/detailevenement/784/-/entrainement-lu
 ndi-24-mercredi-26-vendredi-28?Itemid=1&amp;tmpl=component">Cet évènement a
  été importé depuis :https://thannski.com/component/jevents/detailevenement
 /784/-/entrainement-lundi-24-mercredi-26-vendredi-28?Itemid=1&amp;tmpl=comp
 onent</a>DTSTAMP:20260425T034026
DTSTART:20200224T080000
DTEND:20200224T170000
SEQUENCE:0
TRANSP:OPAQUE
END:VEVENT
END:VCALENDAR