BEGIN:VCALENDAR
VERSION:2.0
PRODID:-//jEvents 2.0 for Joomla//EN
CALSCALE:GREGORIAN
METHOD:PUBLISH
BEGIN:VEVENT
UID:ceb00abe2aff910fe9f47d99d8fcf54e
CATEGORIES:Prépa Physique
CREATED:20200225T174507
SUMMARY:prépa physique mercredi 26/02
URL;VALUE=URI:https://thannski.com/component/jevents/detailevenement/786/-/prepa-physique
 -mercredi-26-02?Itemid=1&amp;tmpl=component
DESCRIPTION:Rdv 9h30 à la salle du collège Walch\nfin vers 11h30\nPrévoir des baskets d
 e salle propres\nune gourde\n Cet évènement a été importé depuis :https://t
 hannski.com/component/jevents/detailevenement/786/-/prepa-physique-mercredi
 -26-02?Itemid=1&amp;tmpl=component
X-ALT-DESC;FMTTYPE=text/html:<p>Rdv 9h30 à la salle du collège Walch</p><p>fin vers 11h30</p><p>Prévoir 
 des baskets de salle propres</p><p>une gourde</p> <a href="https://thannski
 .com/component/jevents/detailevenement/786/-/prepa-physique-mercredi-26-02?
 Itemid=1&amp;tmpl=component">Cet évènement a été importé depuis :https://th
 annski.com/component/jevents/detailevenement/786/-/prepa-physique-mercredi-
 26-02?Itemid=1&amp;tmpl=component</a>DTSTAMP:20260425T034117
DTSTART:20200226T093000
DTEND:20200226T113000
SEQUENCE:0
TRANSP:OPAQUE
END:VEVENT
END:VCALENDAR