BEGIN:VCALENDAR
VERSION:2.0
PRODID:-//jEvents 2.0 for Joomla//EN
CALSCALE:GREGORIAN
METHOD:PUBLISH
BEGIN:VEVENT
UID:85600f9018a3659b2e6ae39727b3f1d9
CATEGORIES:Entrainements / Massif
CREATED:20200225T174928
SUMMARY:entraînement ski jeudi 27 février
URL;VALUE=URI:https://thannski.com/component/jevents/detailevenement/787/-/entrainement-s
 ki-jeudi-27-fevrier?Itemid=1&amp;tmpl=component
DESCRIPTION:Bonjour à tous\nInscrivez vous pour jeudi\nNormalement au Markstein\nSinon 
 Klewenalp\nPlus d'informations demain\nSkis de slalom (ou skis d' entraînem
 ent pour ceux qui en ont\n Cet évènement a été importé depuis :https://than
 nski.com/component/jevents/detailevenement/787/-/entrainement-ski-jeudi-27-
 fevrier?Itemid=1&amp;tmpl=component
X-ALT-DESC;FMTTYPE=text/html:<p>Bonjour à tous</p><p>Inscrivez vous pour jeudi</p><p>Normalement au Mark
 stein</p><p>Sinon Klewenalp</p><p>Plus d'informations demain</p><p>Skis de 
 slalom (ou skis d' entraînement pour ceux qui en ont</p> <a href="https://t
 hannski.com/component/jevents/detailevenement/787/-/entrainement-ski-jeudi-
 27-fevrier?Itemid=1&amp;tmpl=component">Cet évènement a été importé depuis 
 :https://thannski.com/component/jevents/detailevenement/787/-/entrainement-
 ski-jeudi-27-fevrier?Itemid=1&amp;tmpl=component</a>DTSTAMP:20260425T034011
DTSTART:20200227T080000
DTEND:20200227T170000
SEQUENCE:0
TRANSP:OPAQUE
END:VEVENT
END:VCALENDAR