BEGIN:VCALENDAR
VERSION:2.0
PRODID:-//jEvents 2.0 for Joomla//EN
CALSCALE:GREGORIAN
METHOD:PUBLISH
BEGIN:VEVENT
UID:6743d7f1823502461187871e32e5c2c8
CATEGORIES:Entrainements / Massif
CREATED:20200228T202409
SUMMARY:entrainement samedi APM
LOCATION:Markstein
URL;VALUE=URI:https://thannski.com/component/jevents/detailevenement/788/-/entrainement-s
 amedi-apm?Itemid=1&amp;tmpl=component
DESCRIPTION:départ 13h skis de Slalom, direction Markstein      sera confirmée en fin d
 e matinée\n Cet évènement a été importé depuis :https://thannski.com/compon
 ent/jevents/detailevenement/788/-/entrainement-samedi-apm?Itemid=1&amp;tmpl
 =component
X-ALT-DESC;FMTTYPE=text/html:<p>départ 13h skis de Slalom, direction Markstein &nbsp; &nbsp; &nbsp;sera 
 confirmée en fin de matinée</p> <a href="https://thannski.com/component/jev
 ents/detailevenement/788/-/entrainement-samedi-apm?Itemid=1&amp;tmpl=compon
 ent">Cet évènement a été importé depuis :https://thannski.com/component/jev
 ents/detailevenement/788/-/entrainement-samedi-apm?Itemid=1&amp;tmpl=compon
 ent</a>DTSTAMP:20260425T034025
DTSTART:20200229T130000
DTEND:20200229T170000
SEQUENCE:0
TRANSP:OPAQUE
END:VEVENT
END:VCALENDAR