BEGIN:VCALENDAR
VERSION:2.0
PRODID:-//jEvents 2.0 for Joomla//EN
CALSCALE:GREGORIAN
METHOD:PUBLISH
BEGIN:VEVENT
UID:6abf2e8e4daf7aedd527e3eb842f8177
CATEGORIES:Compétitions
CREATED:20200228T203647
SUMMARY:combirace la Schlucht U8 - 10 - 12
URL;VALUE=URI:https://thannski.com/component/jevents/detailevenement/789/-/combirace-la-s
 chlucht-u8-10-12?Itemid=1&amp;tmpl=component
DESCRIPTION:combirace \nCJL Coupe de Bronze U8 à U12 Prix du CDHVdecision du maintien s
 amedi mi journée\n Cet évènement a été importé depuis :https://thannski.com
 /component/jevents/detailevenement/789/-/combirace-la-schlucht-u8-10-12?Ite
 mid=1&amp;tmpl=component
X-ALT-DESC;FMTTYPE=text/html:<p>combirace&nbsp;</p><h2 style="font-style: normal; letter-spacing: normal
 ; text-align: start; text-indent: 0px; text-transform: none; white-space: n
 ormal; word-spacing: 0px; text-decoration: none; margin: 12px 0px; font-fam
 ily: 'Open Sans', sans-serif; font-weight: bold; line-height: 24px; color: 
 #333333; font-size: 22px;">CJL Coupe de Bronze U8 à U12 Prix du CDHV</h2><p
 >decision du maintien samedi mi journée</p> <a href="https://thannski.com/c
 omponent/jevents/detailevenement/789/-/combirace-la-schlucht-u8-10-12?Itemi
 d=1&amp;tmpl=component">Cet évènement a été importé depuis :https://thannsk
 i.com/component/jevents/detailevenement/789/-/combirace-la-schlucht-u8-10-1
 2?Itemid=1&amp;tmpl=component</a>DTSTAMP:20260425T034117
DTSTART;VALUE=DATE:20200301
DTEND;VALUE=DATE:20200302
SEQUENCE:0
TRANSP:OPAQUE
END:VEVENT
END:VCALENDAR