BEGIN:VCALENDAR
VERSION:2.0
PRODID:-//jEvents 2.0 for Joomla//EN
CALSCALE:GREGORIAN
METHOD:PUBLISH
BEGIN:VEVENT
UID:066197176fa983190415b200e94e69be
CATEGORIES:Entrainements / Massif
CREATED:20200302T204855
SUMMARY:SSS mardi 3 mars
URL;VALUE=URI:https://thannski.com/component/jevents/detailevenement/791/-/sss-mardi-3-ma
 rs?Itemid=1&amp;tmpl=component
DESCRIPTION:skis d'entrainement \n Cet évènement a été importé depuis :https://thannski
 .com/component/jevents/detailevenement/791/-/sss-mardi-3-mars?Itemid=1&amp;
 tmpl=component
X-ALT-DESC;FMTTYPE=text/html:<p>skis d'entrainement&nbsp;</p> <a href="https://thannski.com/component/je
 vents/detailevenement/791/-/sss-mardi-3-mars?Itemid=1&amp;tmpl=component">C
 et évènement a été importé depuis :https://thannski.com/component/jevents/d
 etailevenement/791/-/sss-mardi-3-mars?Itemid=1&amp;tmpl=component</a>DTSTAMP:20260425T021552
DTSTART:20200303T130000
DTEND:20200303T170000
SEQUENCE:0
TRANSP:OPAQUE
END:VEVENT
END:VCALENDAR