BEGIN:VCALENDAR
VERSION:2.0
PRODID:-//jEvents 2.0 for Joomla//EN
CALSCALE:GREGORIAN
METHOD:PUBLISH
BEGIN:VEVENT
UID:d9d3523882c50a6ae2ca5957c304b4e8
CATEGORIES:Entrainements / Massif
CREATED:20200302T205442
SUMMARY:mercredi matin 
URL;VALUE=URI:https://thannski.com/component/jevents/detailevenement/792/-/mercredi-matin
 ?Itemid=1&amp;tmpl=component
DESCRIPTION:seance pour les petits au Markstein\n Cet évènement a été importé depuis :h
 ttps://thannski.com/component/jevents/detailevenement/792/-/mercredi-matin?
 Itemid=1&amp;tmpl=component
X-ALT-DESC;FMTTYPE=text/html:<p>seance pour les petits au Markstein</p> <a href="https://thannski.com/co
 mponent/jevents/detailevenement/792/-/mercredi-matin?Itemid=1&amp;tmpl=comp
 onent">Cet évènement a été importé depuis :https://thannski.com/component/j
 events/detailevenement/792/-/mercredi-matin?Itemid=1&amp;tmpl=component</a>DTSTAMP:20260425T021440
DTSTART:20200304T080000
DTEND:20200304T123000
SEQUENCE:0
TRANSP:OPAQUE
END:VEVENT
END:VCALENDAR